BEGIN:VCALENDAR
VERSION:2.0
PRODID:-//Akademie für Naturheilkunde - ECPv6.15.16//NONSGML v1.0//EN
CALSCALE:GREGORIAN
METHOD:PUBLISH
X-WR-CALNAME:Akademie für Naturheilkunde
X-ORIGINAL-URL:https://naturheilkunde-akademie.at
X-WR-CALDESC:Veranstaltungen für Akademie für Naturheilkunde
REFRESH-INTERVAL;VALUE=DURATION:PT1H
X-Robots-Tag:noindex
X-PUBLISHED-TTL:PT1H
BEGIN:VTIMEZONE
TZID:Europe/Vienna
BEGIN:DAYLIGHT
TZOFFSETFROM:+0100
TZOFFSETTO:+0200
TZNAME:CEST
DTSTART:20250330T010000
END:DAYLIGHT
BEGIN:STANDARD
TZOFFSETFROM:+0200
TZOFFSETTO:+0100
TZNAME:CET
DTSTART:20251026T010000
END:STANDARD
BEGIN:DAYLIGHT
TZOFFSETFROM:+0100
TZOFFSETTO:+0200
TZNAME:CEST
DTSTART:20260329T010000
END:DAYLIGHT
BEGIN:STANDARD
TZOFFSETFROM:+0200
TZOFFSETTO:+0100
TZNAME:CET
DTSTART:20261025T010000
END:STANDARD
BEGIN:DAYLIGHT
TZOFFSETFROM:+0100
TZOFFSETTO:+0200
TZNAME:CEST
DTSTART:20270328T010000
END:DAYLIGHT
BEGIN:STANDARD
TZOFFSETFROM:+0200
TZOFFSETTO:+0100
TZNAME:CET
DTSTART:20271031T010000
END:STANDARD
END:VTIMEZONE
BEGIN:VEVENT
DTSTART;TZID=Europe/Vienna:20260128T190000
DTEND;TZID=Europe/Vienna:20260128T203000
DTSTAMP:20260421T123904
CREATED:20250508T133153Z
LAST-MODIFIED:20250508T133153Z
UID:9007-1769626800-1769632200@naturheilkunde-akademie.at
SUMMARY:Adaptogene Vitalpilze – Stärkung von Stressresistenz und Regulationsfähigkeit mit Vitalpilzen
DESCRIPTION:JETZT ANMELDEN \n\n\nMittwoch\, 28. Jänner 2026 – 19:00 – 20:30 Uhr
URL:https://naturheilkunde-akademie.at/event/adaptogene-vitalpilze-staerkung-von-stressresistenz-und-regulationsfaehigkeit-mit-vitalpilzen/
LOCATION:Online via GoToWebinar
CATEGORIES:Webinare
ATTACH;FMTTYPE=image/jpeg:https://naturheilkunde-akademie.at/wp-content/uploads/2025/05/Webinar-adaptogene-Vitalpilze-bild-web-scaled.jpg
ORGANIZER;CN="AfN %E2%80%93 Akademie f%C3%BCr Naturheilkunde GmbH":MAILTO:info@naturheilkunde-akademie.at
END:VEVENT
END:VCALENDAR