BEGIN:VCALENDAR
VERSION:2.0
PRODID:-//Akademie für Naturheilkunde - ECPv6.15.16//NONSGML v1.0//EN
CALSCALE:GREGORIAN
METHOD:PUBLISH
X-ORIGINAL-URL:https://naturheilkunde-akademie.at
X-WR-CALDESC:Veranstaltungen für Akademie für Naturheilkunde
REFRESH-INTERVAL;VALUE=DURATION:PT1H
X-Robots-Tag:noindex
X-PUBLISHED-TTL:PT1H
BEGIN:VTIMEZONE
TZID:Europe/Vienna
BEGIN:DAYLIGHT
TZOFFSETFROM:+0100
TZOFFSETTO:+0200
TZNAME:CEST
DTSTART:20240331T010000
END:DAYLIGHT
BEGIN:STANDARD
TZOFFSETFROM:+0200
TZOFFSETTO:+0100
TZNAME:CET
DTSTART:20241027T010000
END:STANDARD
BEGIN:DAYLIGHT
TZOFFSETFROM:+0100
TZOFFSETTO:+0200
TZNAME:CEST
DTSTART:20250330T010000
END:DAYLIGHT
BEGIN:STANDARD
TZOFFSETFROM:+0200
TZOFFSETTO:+0100
TZNAME:CET
DTSTART:20251026T010000
END:STANDARD
BEGIN:DAYLIGHT
TZOFFSETFROM:+0100
TZOFFSETTO:+0200
TZNAME:CEST
DTSTART:20260329T010000
END:DAYLIGHT
BEGIN:STANDARD
TZOFFSETFROM:+0200
TZOFFSETTO:+0100
TZNAME:CET
DTSTART:20261025T010000
END:STANDARD
END:VTIMEZONE
BEGIN:VEVENT
DTSTART;TZID=Europe/Vienna:20250301T090000
DTEND;TZID=Europe/Vienna:20250301T170000
DTSTAMP:20260421T081153
CREATED:20241001T135419Z
LAST-MODIFIED:20241001T144105Z
UID:7889-1740819600-1740848400@naturheilkunde-akademie.at
SUMMARY:PILZE – Mehr als nur ein Genuss
DESCRIPTION:JETZT ANMELDEN \nSamstag\, 01. März 2025 – 09:00 Uhr bis ca. 17:00 Uhr \n 
URL:https://naturheilkunde-akademie.at/event/pilze-mehr-als-nur-ein-genuss/
LOCATION:Olina Küchen Sandra Perrotta Salzburg e.U.\, Maxglaner Hauptstraße 50A\, Salzburg\, Salzburg-Stadt\, 5020\, Austria
CATEGORIES:Präsenz Fortbildungen
ATTACH;FMTTYPE=image/jpeg:https://naturheilkunde-akademie.at/wp-content/uploads/2024/09/Web-Bild-2025-Pilze.jpg
ORGANIZER;CN="AfN %E2%80%93 Akademie f%C3%BCr Naturheilkunde GmbH":MAILTO:info@naturheilkunde-akademie.at
END:VEVENT
BEGIN:VEVENT
DTSTART;TZID=Europe/Vienna:20250305T190000
DTEND;TZID=Europe/Vienna:20250305T203000
DTSTAMP:20260421T081153
CREATED:20250107T091456Z
LAST-MODIFIED:20250107T091456Z
UID:8436-1741201200-1741206600@naturheilkunde-akademie.at
SUMMARY:Allergien bei Haustieren – Ganzheitliche Ansätze verstehen und behandeln
DESCRIPTION:JETZT ANMELDEN \n\n\nMittwoch\, 05. März 2025 – 19:00 – 20:30 Uhr
URL:https://naturheilkunde-akademie.at/event/allergien-bei-haustieren-ganzheitliche-ansaetze-verstehen-und-behandeln/
LOCATION:Online via GoToWebinar
CATEGORIES:Webinare
ATTACH;FMTTYPE=image/jpeg:https://naturheilkunde-akademie.at/wp-content/uploads/2024/12/Webinar-bild-allergien-scaled.jpg
ORGANIZER;CN="AfN %E2%80%93 Akademie f%C3%BCr Naturheilkunde GmbH":MAILTO:info@naturheilkunde-akademie.at
END:VEVENT
BEGIN:VEVENT
DTSTART;TZID=Europe/Vienna:20250312T190000
DTEND;TZID=Europe/Vienna:20250312T203000
DTSTAMP:20260421T081153
CREATED:20241209T114629Z
LAST-MODIFIED:20250327T104043Z
UID:8293-1741806000-1741811400@naturheilkunde-akademie.at
SUMMARY:Baum- und Knospenkräfte für Wohlbefinden und Gesundheit
DESCRIPTION:HIER KLICKEN FÜR WEITERE INFORMATIONEN \nMittwoch\, 12. März 2025 – 19:00 – 20:30 Uhr
URL:https://naturheilkunde-akademie.at/event/baum-und-knospenkraefte-fuer-wohlbefinden-und-gesundheit/
LOCATION:Online via GoToWebinar
CATEGORIES:Webinare
ATTACH;FMTTYPE=image/jpeg:https://naturheilkunde-akademie.at/wp-content/uploads/2024/10/Webinar-bild-knospen.jpg
ORGANIZER;CN="AfN %E2%80%93 Akademie f%C3%BCr Naturheilkunde GmbH":MAILTO:info@naturheilkunde-akademie.at
END:VEVENT
BEGIN:VEVENT
DTSTART;VALUE=DATE:20250328
DTEND;VALUE=DATE:20250331
DTSTAMP:20260421T081153
CREATED:20241001T143240Z
LAST-MODIFIED:20250327T103912Z
UID:7893-1743120000-1743379199@naturheilkunde-akademie.at
SUMMARY:Diplom zum / zur mykomolekularen Fachberater*in | März 2025
DESCRIPTION:Informationen und Anmeldung zum Seminar in der PRÄSENZ Version: HIER KLICKEN\nInformationen und Anmeldung zum Seminar in der ONLINE Version: HIER KLICKEN \nFreitag\, 28.03.2025 – 09.00 bis ca. 18.00 Uhr\nSamstag\, 29.03.2025 – 09.00 bis ca. 18.00 Uhr\nSonntag\, 30.03.2025 – 08.30 bis ca. 14.00 Uhr \n  \n 
URL:https://naturheilkunde-akademie.at/event/diplom-zum-zur-mykomolekularen-fachberaterin-maerz-2025-praesenz/
LOCATION:Hotel Mercure\, Bayerhamerstrasse 14 a\, Salzburg\, Salzburg\, 5020\, Austria
CATEGORIES:Online Fortbildungen,Präsenz Fortbildungen
ATTACH;FMTTYPE=image/jpeg:https://naturheilkunde-akademie.at/wp-content/uploads/2024/10/bild-web-online-myko-maerz-praesenz-oder-online.jpg
ORGANIZER;CN="AfN %E2%80%93 Akademie f%C3%BCr Naturheilkunde GmbH":MAILTO:info@naturheilkunde-akademie.at
END:VEVENT
END:VCALENDAR