BEGIN:VCALENDAR
VERSION:2.0
PRODID:-//Akademie für Naturheilkunde - ECPv6.15.16//NONSGML v1.0//EN
CALSCALE:GREGORIAN
METHOD:PUBLISH
X-WR-CALNAME:Akademie für Naturheilkunde
X-ORIGINAL-URL:https://naturheilkunde-akademie.at
X-WR-CALDESC:Veranstaltungen für Akademie für Naturheilkunde
REFRESH-INTERVAL;VALUE=DURATION:PT1H
X-Robots-Tag:noindex
X-PUBLISHED-TTL:PT1H
BEGIN:VTIMEZONE
TZID:Europe/Vienna
BEGIN:DAYLIGHT
TZOFFSETFROM:+0100
TZOFFSETTO:+0200
TZNAME:CEST
DTSTART:20240331T010000
END:DAYLIGHT
BEGIN:STANDARD
TZOFFSETFROM:+0200
TZOFFSETTO:+0100
TZNAME:CET
DTSTART:20241027T010000
END:STANDARD
BEGIN:DAYLIGHT
TZOFFSETFROM:+0100
TZOFFSETTO:+0200
TZNAME:CEST
DTSTART:20250330T010000
END:DAYLIGHT
BEGIN:STANDARD
TZOFFSETFROM:+0200
TZOFFSETTO:+0100
TZNAME:CET
DTSTART:20251026T010000
END:STANDARD
BEGIN:DAYLIGHT
TZOFFSETFROM:+0100
TZOFFSETTO:+0200
TZNAME:CEST
DTSTART:20260329T010000
END:DAYLIGHT
BEGIN:STANDARD
TZOFFSETFROM:+0200
TZOFFSETTO:+0100
TZNAME:CET
DTSTART:20261025T010000
END:STANDARD
END:VTIMEZONE
BEGIN:VEVENT
DTSTART;TZID=Europe/Vienna:20250212T190000
DTEND;TZID=Europe/Vienna:20250212T203000
DTSTAMP:20260421T100158
CREATED:20241001T132503Z
LAST-MODIFIED:20241001T132503Z
UID:7887-1739386800-1739392200@naturheilkunde-akademie.at
SUMMARY:Typische Stoffwechselerkrankungen unserer Zeit
DESCRIPTION:JETZT ANMELDEN \n\n\n\n\nMittwoch\, 12. Februar 2025 – 19:00 – 20:30 Uhr
URL:https://naturheilkunde-akademie.at/event/typische-stoffwechselerkrankungen-unserer-zeit/
LOCATION:Online via GoToWebinar
CATEGORIES:Webinare
ATTACH;FMTTYPE=image/jpeg:https://naturheilkunde-akademie.at/wp-content/uploads/2024/04/Web-Bild-Stoffwechsel-scaled.jpg
ORGANIZER;CN="AfN %E2%80%93 Akademie f%C3%BCr Naturheilkunde GmbH":MAILTO:info@naturheilkunde-akademie.at
END:VEVENT
END:VCALENDAR