BEGIN:VCALENDAR
VERSION:2.0
PRODID:-//Akademie für Naturheilkunde - ECPv6.15.16//NONSGML v1.0//EN
CALSCALE:GREGORIAN
METHOD:PUBLISH
X-ORIGINAL-URL:https://naturheilkunde-akademie.at
X-WR-CALDESC:Veranstaltungen für Akademie für Naturheilkunde
REFRESH-INTERVAL;VALUE=DURATION:PT1H
X-Robots-Tag:noindex
X-PUBLISHED-TTL:PT1H
BEGIN:VTIMEZONE
TZID:Europe/Vienna
BEGIN:DAYLIGHT
TZOFFSETFROM:+0100
TZOFFSETTO:+0200
TZNAME:CEST
DTSTART:20250330T010000
END:DAYLIGHT
BEGIN:STANDARD
TZOFFSETFROM:+0200
TZOFFSETTO:+0100
TZNAME:CET
DTSTART:20251026T010000
END:STANDARD
BEGIN:DAYLIGHT
TZOFFSETFROM:+0100
TZOFFSETTO:+0200
TZNAME:CEST
DTSTART:20260329T010000
END:DAYLIGHT
BEGIN:STANDARD
TZOFFSETFROM:+0200
TZOFFSETTO:+0100
TZNAME:CET
DTSTART:20261025T010000
END:STANDARD
BEGIN:DAYLIGHT
TZOFFSETFROM:+0100
TZOFFSETTO:+0200
TZNAME:CEST
DTSTART:20270328T010000
END:DAYLIGHT
BEGIN:STANDARD
TZOFFSETFROM:+0200
TZOFFSETTO:+0100
TZNAME:CET
DTSTART:20271031T010000
END:STANDARD
END:VTIMEZONE
BEGIN:VEVENT
DTSTART;VALUE=DATE:20261009
DTEND;VALUE=DATE:20261012
DTSTAMP:20260421T155909
CREATED:20251211T154401Z
LAST-MODIFIED:20251211T154401Z
UID:9685-1791504000-1791763199@naturheilkunde-akademie.at
SUMMARY:Lehrgang zum / zur zertifizierten mykomolekularen Fachberater:in | SALZBURG | PRÄSENZ
DESCRIPTION:Freitag\, 09.10.2026 – 09.00 bis 18.00 Uhr\nSamstag\, 10.10.2026 – 09.00 bis 18.00 Uhr\nSonntag\, 11.10.2026 – 08.30 bis 12.00 Uhr \n\n\nWeitere Infos & Details: \nJETZT ANMELDEN \n  \nAuch als Online-Fortbildung verfügbar: \nJETZT ANMELDEN
URL:https://naturheilkunde-akademie.at/event/lehrgang-zum-zur-zertifizierten-mykomolekularen-fachberaterin-salzburg-praesenz/
LOCATION:Hotel Mercure\, Bayerhamerstrasse 14 a\, Salzburg\, Salzburg\, 5020\, Austria
CATEGORIES:Präsenz Fortbildungen
ATTACH;FMTTYPE=image/jpeg:https://naturheilkunde-akademie.at/wp-content/uploads/2025/12/bild-web-myko-salzburg-praesenz.jpg
ORGANIZER;CN="AfN %E2%80%93 Akademie f%C3%BCr Naturheilkunde GmbH":MAILTO:info@naturheilkunde-akademie.at
END:VEVENT
END:VCALENDAR