BEGIN:VCALENDAR
VERSION:2.0
PRODID:-//Akademie für Naturheilkunde - ECPv6.15.16//NONSGML v1.0//EN
CALSCALE:GREGORIAN
METHOD:PUBLISH
X-WR-CALNAME:Akademie für Naturheilkunde
X-ORIGINAL-URL:https://naturheilkunde-akademie.at
X-WR-CALDESC:Veranstaltungen für Akademie für Naturheilkunde
REFRESH-INTERVAL;VALUE=DURATION:PT1H
X-Robots-Tag:noindex
X-PUBLISHED-TTL:PT1H
BEGIN:VTIMEZONE
TZID:Europe/Vienna
BEGIN:DAYLIGHT
TZOFFSETFROM:+0100
TZOFFSETTO:+0200
TZNAME:CEST
DTSTART:20250330T010000
END:DAYLIGHT
BEGIN:STANDARD
TZOFFSETFROM:+0200
TZOFFSETTO:+0100
TZNAME:CET
DTSTART:20251026T010000
END:STANDARD
BEGIN:DAYLIGHT
TZOFFSETFROM:+0100
TZOFFSETTO:+0200
TZNAME:CEST
DTSTART:20260329T010000
END:DAYLIGHT
BEGIN:STANDARD
TZOFFSETFROM:+0200
TZOFFSETTO:+0100
TZNAME:CET
DTSTART:20261025T010000
END:STANDARD
BEGIN:DAYLIGHT
TZOFFSETFROM:+0100
TZOFFSETTO:+0200
TZNAME:CEST
DTSTART:20270328T010000
END:DAYLIGHT
BEGIN:STANDARD
TZOFFSETFROM:+0200
TZOFFSETTO:+0100
TZNAME:CET
DTSTART:20271031T010000
END:STANDARD
END:VTIMEZONE
BEGIN:VEVENT
DTSTART;VALUE=DATE:20260528
DTEND;VALUE=DATE:20260601
DTSTAMP:20260421T111122
CREATED:20250905T074848Z
LAST-MODIFIED:20250905T074848Z
UID:9387-1779926400-1780271999@naturheilkunde-akademie.at
SUMMARY:KLOSTERHEILKUNDE IST LEBENSHEILKUNDE – Gesundheitsprävention auf Grundlage der Europäischen Klosterheilkunde | 2026
DESCRIPTION:Donnerstag\, 28.05.2026 – 10.00 bis 18.00 Uhr\nFreitag\, 29.05.2026 – 09.00 bis 18.00 Uhr\nSamstag\, 30.05.2026 – 09.00 bis 18.00 Uhr\nSonntag\, 31.05.2026 – 09.00 bis 15.00 Uhr \n\n\nWeitere Infos & Details: \nJETZT ANMELDEN \n  \n 
URL:https://naturheilkunde-akademie.at/event/klosterheilkunde-ist-lebensheilkunde-gesundheitspraevention-auf-grundlage-der-europaeischen-klosterheilkunde-2026/
LOCATION:Schlosshotel Mondsee\, Schlosshof 1a\, Mondsee\, Salzburg\, 5310\, Austria
CATEGORIES:Präsenz Fortbildungen
ATTACH;FMTTYPE=image/jpeg:https://naturheilkunde-akademie.at/wp-content/uploads/2025/07/Web-Bild-KHK-2026.jpg
ORGANIZER;CN="AfN %E2%80%93 Akademie f%C3%BCr Naturheilkunde GmbH":MAILTO:info@naturheilkunde-akademie.at
END:VEVENT
END:VCALENDAR