BEGIN:VCALENDAR
VERSION:2.0
PRODID:-//Akademie für Naturheilkunde - ECPv6.15.16//NONSGML v1.0//EN
CALSCALE:GREGORIAN
METHOD:PUBLISH
X-ORIGINAL-URL:https://naturheilkunde-akademie.at
X-WR-CALDESC:Veranstaltungen für Akademie für Naturheilkunde
REFRESH-INTERVAL;VALUE=DURATION:PT1H
X-Robots-Tag:noindex
X-PUBLISHED-TTL:PT1H
BEGIN:VTIMEZONE
TZID:Europe/Vienna
BEGIN:DAYLIGHT
TZOFFSETFROM:+0100
TZOFFSETTO:+0200
TZNAME:CEST
DTSTART:20250330T010000
END:DAYLIGHT
BEGIN:STANDARD
TZOFFSETFROM:+0200
TZOFFSETTO:+0100
TZNAME:CET
DTSTART:20251026T010000
END:STANDARD
BEGIN:DAYLIGHT
TZOFFSETFROM:+0100
TZOFFSETTO:+0200
TZNAME:CEST
DTSTART:20260329T010000
END:DAYLIGHT
BEGIN:STANDARD
TZOFFSETFROM:+0200
TZOFFSETTO:+0100
TZNAME:CET
DTSTART:20261025T010000
END:STANDARD
BEGIN:DAYLIGHT
TZOFFSETFROM:+0100
TZOFFSETTO:+0200
TZNAME:CEST
DTSTART:20270328T010000
END:DAYLIGHT
BEGIN:STANDARD
TZOFFSETFROM:+0200
TZOFFSETTO:+0100
TZNAME:CET
DTSTART:20271031T010000
END:STANDARD
END:VTIMEZONE
BEGIN:VEVENT
DTSTART;VALUE=DATE:20260320
DTEND;VALUE=DATE:20260323
DTSTAMP:20260421T111555
CREATED:20250904T140233Z
LAST-MODIFIED:20250904T140246Z
UID:9383-1773964800-1774223999@naturheilkunde-akademie.at
SUMMARY:Lehrgang zum / zur zertifizierten mykomolekularen Fachberater:in | ESSEN
DESCRIPTION:Freitag\, 20.03.2025 – 09.00 bis ca. 18.00 Uhr\nSamstag\, 21.03.2025 – 09.00 bis ca. 18.00 Uhr\nSonntag\, 22.03.2025 – 08.30 bis ca. 14.00 Uhr \nWeitere Infos & Details: \nJETZT ANMELDEN (Präsenzteilnahme) \nJETZT ANMELDEN (Onlineteilnhame) \n 
URL:https://naturheilkunde-akademie.at/event/lehrgang-zum-zur-zertifizierten-mykomolekularen-fachberaterin-essen/
LOCATION:Schloss Hugenpoet\, August-Thyssen-Straße 51\, Essen-Kettwig\, Nordrhein-Westfalen\, 45219\, Germany
CATEGORIES:Online Fortbildungen,Präsenz Fortbildungen
ATTACH;FMTTYPE=image/jpeg:https://naturheilkunde-akademie.at/wp-content/uploads/2025/05/Bild-f-Website-Myko-Essen.jpg
ORGANIZER;CN="AfN %E2%80%93 Akademie f%C3%BCr Naturheilkunde GmbH":MAILTO:info@naturheilkunde-akademie.at
END:VEVENT
END:VCALENDAR